BEGIN:VCALENDAR
VERSION:2.0
PRODID:-//Nicole Loretan - ECPv6.15.20//NONSGML v1.0//EN
CALSCALE:GREGORIAN
METHOD:PUBLISH
X-ORIGINAL-URL:https://nicoleloretan.com
X-WR-CALDESC:Veranstaltungen im Nicole Loretan
REFRESH-INTERVAL;VALUE=DURATION:PT1H
X-Robots-Tag:noindex
X-PUBLISHED-TTL:PT1H
BEGIN:VTIMEZONE
TZID:UTC
BEGIN:STANDARD
TZOFFSETFROM:+0000
TZOFFSETTO:+0000
TZNAME:UTC
DTSTART:20250101T000000
END:STANDARD
END:VTIMEZONE
BEGIN:VEVENT
DTSTART;TZID=UTC:20260517T193000
DTEND;TZID=UTC:20260517T210000
DTSTAMP:20260424T131001
CREATED:20260129T172040Z
LAST-MODIFIED:20260129T172217Z
UID:634-1779046200-1779051600@nicoleloretan.com
SUMMARY:Piano recital
DESCRIPTION:
URL:https://nicoleloretan.com/event/piano-recital-7/
ATTACH;FMTTYPE=image/png:https://nicoleloretan.com/wp-content/uploads/2026/01/notenbeispiel2a.png
END:VEVENT
BEGIN:VEVENT
DTSTART;TZID=UTC:20260525T150000
DTEND;TZID=UTC:20260525T170000
DTSTAMP:20260424T131001
CREATED:20260129T172947Z
LAST-MODIFIED:20260129T172947Z
UID:641-1779721200-1779728400@nicoleloretan.com
SUMMARY:Piano Recital
DESCRIPTION:
URL:https://nicoleloretan.com/event/piano-recital-8/
LOCATION:Kulturhaus Helferei\, Kirchgasse 13\, 8001 Zürich\, Switzerland
ATTACH;FMTTYPE=image/webp:https://nicoleloretan.com/wp-content/uploads/2026/01/1058-0101-028_F_konzert_02_W2-scaled-700x500.jpg.webp
END:VEVENT
BEGIN:VEVENT
DTSTART;TZID=UTC:20260529T190000
DTEND;TZID=UTC:20260529T193000
DTSTAMP:20260424T131001
CREATED:20260214T104337Z
LAST-MODIFIED:20260214T104337Z
UID:649-1780081200-1780083000@nicoleloretan.com
SUMMARY:piano recital
DESCRIPTION:private
URL:https://nicoleloretan.com/event/piano-recital-9/
ATTACH;FMTTYPE=image/jpeg:https://nicoleloretan.com/wp-content/uploads/2026/02/PHOTO-2026-01-29-20-55-09.jpg
END:VEVENT
BEGIN:VEVENT
DTSTART;TZID=UTC:20260531T190000
DTEND;TZID=UTC:20260531T193000
DTSTAMP:20260424T131001
CREATED:20260214T104617Z
LAST-MODIFIED:20260214T104711Z
UID:652-1780254000-1780255800@nicoleloretan.com
SUMMARY:piano recital
DESCRIPTION:private
URL:https://nicoleloretan.com/event/piano-recital-10/
ATTACH;FMTTYPE=image/jpeg:https://nicoleloretan.com/wp-content/uploads/2026/02/PHOTO-2026-01-29-20-55-09.jpg
END:VEVENT
END:VCALENDAR